BEGIN:VCALENDAR
VERSION:2.0
PRODID:-//Tukios.com/
BEGIN:VEVENT
UID:784dbd95-32c2-44eb-a643-31fd63f54396@www.campanellastewart.com
DTSTAMP:20260422T003633Z
DTSTART:20260502T174500Z
DTEND:20260502T181500Z
SUMMARY:Graveside Service
DESCRIPTION:
URL:https://www.campanellastewart.com/obituaries/laurence-blake-jr
LOCATION: 3901 Milford Cemetery Rd  Milford KS 66514
GEO:39.1833384;-96.9044795
END:VEVENT
END:VCALENDAR