BEGIN:VCALENDAR
VERSION:2.0
PRODID:-//Tukios.com/
BEGIN:VEVENT
UID:a8c1328f-9d61-4e3f-ac42-cfc86aa1cfba@www.campanellastewart.com
DTSTAMP:20260422T222132Z
DTSTART:20260428T180000Z
DTEND:20260428T190000Z
SUMMARY:Visitation
DESCRIPTION:
URL:https://www.campanellastewart.com/obituaries/marie-brazzle
LOCATION:Campanella & Stewart Funeral Home 4370 Salzer Rd. P.O. Box 48  
	Wamego KS 66547
GEO:39.2093212;-96.3437952
END:VEVENT
END:VCALENDAR