BEGIN:VCALENDAR
VERSION:2.0
PRODID:-//Tukios.com/
BEGIN:VEVENT
UID:6dabdccc-e58b-411a-8166-07f2487f47d5@www.campanellastewart.com
DTSTAMP:20260422T221328Z
DTSTART:20260428T190000Z
DTEND:20260428T200000Z
SUMMARY:Memorial Service
DESCRIPTION:
URL:https://www.campanellastewart.com/obituaries/marie-brazzle
LOCATION:Campanella & Stewart Funeral Home 4370 Salzer Rd. P.O. Box 48  
	Wamego KS 66547
GEO:39.2093212;-96.3437952
END:VEVENT
END:VCALENDAR